Workbook
Name 申請区分: #REF!

Sheet 申請書
A1: 様式１ | R1: 申請No.
A3: 南国市社会福祉施設等物価高騰緊急対策給付金給付申請書兼請求書
S5: 令和 | V5: 年 | Y5: 月 | AB5: 日
A6: 南国市長 平山 耕三 | H6: 様
A8: 標記について、次のとおり申請(請求）します。
A10: 申 請 者 | B10: フリガナ
B11: 法人名 氏名
B12: 事業所 所在地 住 所 | E12: （郵便番号 | J12: ‐ | N12: ）
B14: (法人の場合)代表者情報 | H14: 職 名 | Q14: 氏 名
B15: 申請に関する担当者(申請書に不備があった場合等にご連絡させていただきます。)
B16: 担当者氏名 | Q16: E-mail
B17: 日中連絡が取れる電話番号 | Q17: ＦＡＸ
A19: 申請内容
L20: 事業所･施設数 | R20: 申請額
A21: 介護区分 | E21: 入所系 | L21: =COUNTIFS(施設一覧!C5:C14,"介護入所系") -> 0 | N21: 箇所 | R21: =SUMIFS(施設一覧!K5:K14,施設一覧!C5:C14,"介護入所系") -> 0 | AA21: 円
E22: 通所系 | L22: =COUNTIFS(施設一覧!C5:C14,"介護通所系") -> 0 | N22: 箇所 | R22: =SUMIFS(施設一覧!K5:K14,施設一覧!C5:C14,"介護通所系") -> 0 | AA22: 円
E23: 訪問系 | L23: =COUNTIFS(施設一覧!C5:C14,"介護訪問系") -> 0 | N23: 箇所 | R23: =SUMIFS(施設一覧!K7:K20,施設一覧!C7:C20,"介護入所系")+SUMIFS(施設一覧!K5:K14,施設一覧!C5:C14,"介護訪問系") -> 0 | AA23: 円
E24: 介護区分 計 | L24: =SUM(L21:M23) -> 0 | N24: 箇所 | R24: =SUM(R21:Z23) -> 0 | AA24: 円
A25: 障害区分 | E25: 訪問系 | L25: =COUNTIFS(施設一覧!C5:C14,"障害訪問系") -> 0 | N25: 箇所 | R25: =SUMIFS(施設一覧!K5:K14,施設一覧!C5:C14,"障害訪問系") -> 0 | AA25: 円
E26: 障害区分 計 | L26: =L25 -> 0 | N26: 箇所 | R26: =R25 -> 0 | AA26: 円
A27: 合 計 | L27: =SUM(L24,L26) -> 0 | N27: 箇所 | R27: =SUM(R24,R26) -> 0 | AA27: 円
A29: 振込先
A30: 金融機関名 | M30: 支店名
A31: 普通・当座の別 | M31: 口座番号
A32: フリガナ
A33: 口座名義
A35: ※振込先の口座が申請法人名義と異なる場合は、口座振替申出書（委任状あり）を提出してください。
A37: （申請に必要な添付書類）
B38: ・様式２ 事業所・施設別申請（請求）額一覧 | O38: ・様式３ 誓約書

Sheet 施設一覧
B1: 様式２ | D1: 事業所・施設別申請（請求）額一覧
K3: （単位:円） | M3: リスト一覧 | P3: 申請額一覧の引用元
B4: No. | C4: 申請区分 | D4: サービス種別 | E4: 代表となる法人名 | F4: 事業所・施設名 | G4: 事業所番号 | H4: 電話番号 | I4: 住所 | J4: 作業セル１ | K4: 申請（請求）額(c) | M4: 申請区分 | N4: 介護入所系 | P4: 事業所種別 | Q4: 単価
B5: =ROW()-4 -> 1 | J5: =VLOOKUP(D5,$P$5:$R$76,3,FALSE) -> #N/A | K5: =IF(D5="","",VLOOKUP(D5,$P$5:$Q$76,2,FALSE)) | M5: 介護入所系 | N5: 認知症対応型共同生活介護医（グループホーム） | P5: 認知症対応型共同生活介護医（グループホーム） | Q5: 150000
B6: =ROW()-4 -> 2 | J6: =VLOOKUP(D6,$P$5:$R$76,3,FALSE) -> #N/A | K6: =IF(D6="","",VLOOKUP(D6,$P$5:$Q$76,2,FALSE)) | M6: 介護通所系 | N6: 地域密着型通所介護（密着デイ） | P6: 地域密着型通所介護（密着デイ） | Q6: 100000
B7: =ROW()-4 -> 3 | J7: =VLOOKUP(D7,$P$5:$R$76,3,FALSE) -> #N/A | K7: =IF(D7="","",VLOOKUP(D7,$P$5:$Q$76,2,FALSE)) | M7: 介護訪問系 | N7: 小規模多機能型居宅介護 | P7: 小規模多機能型居宅介護 | Q7: 100000
B8: =ROW()-4 -> 4 | J8: =VLOOKUP(D8,$P$5:$R$76,3,FALSE) -> #N/A | K8: =IF(D8="","",VLOOKUP(D8,$P$5:$Q$76,2,FALSE)) | M8: 障害訪問系 | N8: 通所型サービスC | P8: 通所型サービスC | Q8: 100000
B9: =ROW()-4 -> 5 | J9: =VLOOKUP(D9,$P$5:$R$76,3,FALSE) -> #N/A | K9: =IF(D9="","",VLOOKUP(D9,$P$5:$Q$76,2,FALSE)) | N9: 定期巡回・随時対応型訪問介護看護 | P9: 定期巡回・随時対応型訪問介護看護 | Q9: 100000
B10: =ROW()-4 -> 6 | J10: =VLOOKUP(D10,$P$5:$R$76,3,FALSE) -> #N/A | K10: =IF(D10="","",VLOOKUP(D10,$P$5:$Q$76,2,FALSE)) | N10: 居宅介護支援 | P10: 居宅介護支援 | Q10: 100000
B11: =ROW()-4 -> 7 | J11: =VLOOKUP(D11,$P$5:$R$76,3,FALSE) -> #N/A | K11: =IF(D11="","",VLOOKUP(D11,$P$5:$Q$76,2,FALSE)) | N11: 介護予防支援 | P11: 介護予防支援 | Q11: 100000
B12: =ROW()-4 -> 8 | J12: =VLOOKUP(D12,$P$5:$R$76,3,FALSE) -> #N/A | K12: =IF(D12="","",VLOOKUP(D12,$P$5:$Q$76,2,FALSE)) | N12: 計画相談支援 | P12: 配食サービス（利用者10人以下） | Q12: 30000
B13: =ROW()-4 -> 9 | J13: =VLOOKUP(D13,$P$5:$R$76,3,FALSE) -> #N/A | K13: =IF(D13="","",VLOOKUP(D13,$P$5:$Q$76,2,FALSE)) | P13: 配食サービス（利用者11人以上20人以下） | Q13: 60000
B14: =ROW()-4 -> 10 | J14: =VLOOKUP(D14,$P$5:$R$76,3,FALSE) -> #N/A | K14: =IF(D14="","",VLOOKUP(D14,$P$5:$Q$76,2,FALSE)) | P14: 配食サービス（利用者21人以上30人以下） | Q14: 90000
P15: 配食サービス（利用者31人以上） | Q15: 120000
P16: 計画相談支援 | Q16: 100000
