Workbook

Sheet 調査票
B2: 介護人材実態調査 【事業所票】 訪問系
C4: ※令和7年９月１日現在の状況について、 | H4: の中に、ご回答ください。
A6: =COUNTIF(C10:C12,"○") -> 0 | B6: 問１ 該当するサービス種別（介護予防を含む）を、ご回答ください。（１つに○）
C8: ※本調査票の送付先（郵便・メール等の宛名となっている事業所）で行うサービスについて、ご回答ください。
D10: １．訪問系サービス（訪問介護、訪問入浴、夜間対応型訪問介護、訪問型サービス（総合事業））
D11: ２．小規模多機能型居宅介護
D12: ３．定期巡回・随時対応型訪問介護看護 | I12: =IF(A6>1,"問１は１つのみ選択してください。","")
B14: 問２ 貴事業所（問１で〇をつけたサービス種別の事業所）に所属する介護職員について、お伺いします。
C15: ※ここでの「介護職員」は、賃金の支払いを受けている方に限ります。（ボランティアの方は含みません。）
C17: 問２-１ 介護職員の人数を、ご記入ください。（数値を記入）
C19: ※前月に出勤のない、長期休暇（育児休業等）中の職員は人数に含めないでください。
C20: ※「外国人」には、EPA・技能実習・在留資格「介護」、特定技能により勤務している人数をご記入ください。
C22: 介護職員の総数 | G22: 人 | H22: 左記のうち常勤職員 | L22: 人
H23: 左記のうち非常勤職員 | L23: 人
C25: 外国人職員数 | G25: 人 | H25: 派遣職員数 | L25: 人
A27: =COUNTIF(J27:J28,"○") -> 0 | C27: 問２-２ 貴事業所は開設から1年以上経過していますか。 | K27: １．はい ⇒問2-3へ
D28: =IF(A27>1,"問2-2は１つ"&CHAR(10)&"選択してください。","（1つ選択）") -> （1つ選択） | K28: ２．いいえ ⇒問３へ
C30: 問２-３ 令和7年９月１日時点で、開設から１年以上を経過している事業所にお伺いします。
D31: 過去１年間（令和６年９月１日～令和７年８月３１日）の介護職員の採用者数と離職者数を、常勤・非常勤別にご記入ください。外国人人材も含めてご回答ください。（数値を記入）
E34: 採用者数 | H34: 離職者数
C35: 常勤職員
C36: 非常勤職員
C37: 合計 | E37: =SUM(E35:G36) -> 0 | H37: =SUM(H35:J36) -> 0
B39: 問３ 採用や人材定着に関する課題をご回答ください。（自由記述）
B50: 問４ 人材確保に関して市町村に期待するサポートがあれば、ご回答ください。（自由記述）
C57: 貴事業所についてご記入ください。
C58: 事業所名
C59: ご担当者氏名
C60: 電話番号
C61: Eメールアドレス
C63: 調査は以上となります。ご協力ありがとうございました。

Sheet 集計_訪問系（調査票から転記）
A1: 集計用
A2: 1 | B2: 2 | C2: 3 | D2: 4 | E2: 5 | F2: 6 | G2: 7 | H2: 8 | I2: 9 | J2: 10 | K2: 11 | L2: 12 | M2: 13 | N2: 14 | O2: 15 | P2: 16 | Q2: 17 | R2: 18 | S2: 19 | T2: 20
A3: 設問No.→
B4: Q1 ｻｰﾋﾞｽ種別 | C4: Q2-1-1 介護職員数 | D4: Q2-1-2 常勤職員数 | E4: Q2-1-3 非常勤職員数 | F4: Q2-2開設時期 | G4: Q2-3-1 採用者数 | H4: Q2-3-2 離職者数 | I4: Q2-3-3 採用者数_常勤職員 | J4: Q2-3-4 採用者数_非常勤職員 | K4: Q2-3-5 離職者数_常勤職員 | L4: Q2-3-6 離職者数_非常勤職員 | M4: Q3 採用の課題 | N4: Q4 離職理由 | O4: Q5-1 事業所名 | P4: Q5-2 担当者名 | Q4: Q5-3 電話番号 | R4: Q5-4 Eメールアドレス | S4: Q2-1-4 外国人職員数 | T4: Q2-1-5 派遣職員数
B5: SA | C5: NA | D5: NA | E5: NA | F5: SA | G5: NA | H5: NA | I5: NA | J5: NA | K5: NA | L5: NA | M5: FA | N5: FA | O5: FA | P5: FA | Q5: FA | R5: FA | S5: NA | T5: NA
B6: =IF(COUNTIF(転記作業用!A6:D6,"<>0")>1,"",IF(転記作業用!E6=0,"-",転記作業用!E6)) -> #REF! | C6: =IF(調査票!E22="","-",調査票!E22) -> - | D6: =IF(調査票!J22="","-",調査票!J22) -> - | E6: =IF(調査票!J23="","-",調査票!J23) -> - | F6: =IF(COUNTIF(転記作業用!J6:K6,"<>0")>1,"-",IF(転記作業用!L6=0,"-",転記作業用!L6)) -> - | G6: =IF($F$6=2,"*",IF(OR(調査票!E35<>"",調査票!E36<>""),調査票!E37,"-")) -> - | H6: =IF($F$6=2,"*",IF(OR(調査票!H35<>"",調査票!H36<>""),調査票!H37,"-")) -> - | I6: =IF($F$6=2,"*",IF(AND(調査票!E35="",調査票!E37=0),"-",IF(AND(調査票!E35="",調査票!E37<>0),0,調査票!E35))) -> - | J6: =IF($F$6=2,"*",IF(AND(調査票!E36="",調査票!E37=0),"-",IF(AND(調査票!E36="",調査票!E37<>0),0,調査票!E36))) -> - | K6: =IF($F$6=2,"*",IF(AND(調査票!H35="",調査票!H37=0),"-",IF(AND(調査票!H35="",調査票!H37<>0),0,調査票!H35))) -> - | L6: =IF($F$6=2,"*",IF(AND(調査票!H36="",調査票!H37=0),"-",IF(AND(調査票!H36="",調査票!H37<>0),0,調査票!H36))) -> - | M6: =IF(調査票!C41="","-",調査票!C41) -> - | N6: =IF(調査票!C52="","-",調査票!C52) -> - | O6: =IF(調査票!F58="","-",調査票!F58) -> - | P6: =IF(調査票!F59="","-",調査票!F59) -> - | Q6: =IF(調査票!F60="","-",調査票!F60) -> - | R6: =IF(調査票!F61="","-",調査票!F61) -> - | S6: =IF(調査票!E25="","-",調査票!E25) -> - | T6: =IF(調査票!J25="","-",調査票!J25) -> - | U6: =IF(OR(転記作業用!F6=1,転記作業用!M6=1),"回答エラーがあります。調査票シートを確認してください。","")

Sheet 転記作業用
A1: 転記作業用
A4: Q1 ｻｰﾋﾞｽ種別 | E4: 集計用 | F4: エラー | G4: Q2-1-1 介護職員数 | H4: Q2-1-2 外国人職員数 | I4: Q2-1-2 派遣職員数 | J4: Q2-2開設時期 | L4: 集計用 | M4: エラー | N4: Q2-3-1 採用者数 | O4: Q2-3-2 離職者数 | P4: Q2-4-1 採用者数_常勤職員 | Q4: Q2-4-1 採用者数_非常勤職員 | R4: Q2-4-1 離職者数_常勤職員 | S4: Q2-4-1 離職者数_非常勤職員 | T4: Q3 採用の課題 | U4: Q4 離職理由 | V4: Q5-1 事業所名 | W4: Q5-2 担当者名 | X4: Q5-3 電話番号 | Y4: Q5-4 Eメールアドレス | Z4: Q2-1-4 外国人職員数 | AA4: Q2-1-5 派遣職員数
A5: 1訪問系 | B5: 2小多機 | C5: 3看多機 | D5: 4定期巡回 | E5: 種別 | G5: NA | H5: NA | I5: NA | J5: 1. 1年以上 | K5: 2. 1年未満 | L5: 時期 | N5: NA | O5: NA | P5: NA | Q5: NA | R5: NA | S5: NA | T5: FA | U5: FA | V5: FA | W5: FA | X5: FA | Y5: FA | Z5: NA | AA5: NA
A6: =IF(調査票!C10="○",1,0) -> 0 | B6: =IF(調査票!C11="○",2,0) -> 0 | C6: =IF(調査票!#REF!="○",3,0) -> #REF! | D6: =IF(調査票!C12="○",4,0) -> 0 | E6: =SUM(A6:D6) -> #REF! | F6: =IF(COUNTIF(A6:D6,">0")>1,1,0) -> 0 | G6: =調査票!E22 -> 0 | H6: =調査票!J22 -> 0 | I6: =調査票!J23 -> 0 | J6: =IF(調査票!J27="○",1,0) -> 0 | K6: =IF(調査票!J28="○",2,0) -> 0 | L6: =SUM(J6:K6) -> 0 | M6: =IF(COUNTIF(J6:K6,">0")>1,1,0) -> 0 | N6: =調査票!E37 -> 0 | O6: =調査票!H37 -> 0 | P6: =調査票!E35 -> 0 | Q6: =調査票!E36 -> 0 | R6: =調査票!H35 -> 0 | S6: =調査票!H36 -> 0 | T6: =調査票!C41 -> 0 | U6: =調査票!C52 -> 0 | V6: =調査票!F58 -> 0 | W6: =調査票!F59 -> 0 | X6: =調査票!F60 -> 0 | Y6: =調査票!F61 -> 0 | Z6: =調査票!E25 -> 0 | AA6: =調査票!J25 -> 0
